BEGIN:VCALENDAR
VERSION:2.0
PRODID:-//PI Midlantic - ECPv6.15.18//NONSGML v1.0//EN
CALSCALE:GREGORIAN
METHOD:PUBLISH
X-WR-CALNAME:PI Midlantic
X-ORIGINAL-URL:https://www.pimidlantic.com
X-WR-CALDESC:Events for PI Midlantic
REFRESH-INTERVAL;VALUE=DURATION:PT1H
X-Robots-Tag:noindex
X-PUBLISHED-TTL:PT1H
BEGIN:VTIMEZONE
TZID:America/New_York
BEGIN:DAYLIGHT
TZOFFSETFROM:-0500
TZOFFSETTO:-0400
TZNAME:EDT
DTSTART:20240310T070000
END:DAYLIGHT
BEGIN:STANDARD
TZOFFSETFROM:-0400
TZOFFSETTO:-0500
TZNAME:EST
DTSTART:20241103T060000
END:STANDARD
BEGIN:DAYLIGHT
TZOFFSETFROM:-0500
TZOFFSETTO:-0400
TZNAME:EDT
DTSTART:20250309T070000
END:DAYLIGHT
BEGIN:STANDARD
TZOFFSETFROM:-0400
TZOFFSETTO:-0500
TZNAME:EST
DTSTART:20251102T060000
END:STANDARD
BEGIN:DAYLIGHT
TZOFFSETFROM:-0500
TZOFFSETTO:-0400
TZNAME:EDT
DTSTART:20260308T070000
END:DAYLIGHT
BEGIN:STANDARD
TZOFFSETFROM:-0400
TZOFFSETTO:-0500
TZNAME:EST
DTSTART:20261101T060000
END:STANDARD
END:VTIMEZONE
BEGIN:VEVENT
DTSTART;TZID=America/New_York:20251215T140000
DTEND;TZID=America/New_York:20251215T140000
DTSTAMP:20260423T154458
CREATED:20250505T144649Z
LAST-MODIFIED:20250505T144649Z
UID:6799-1765807200-1765807200@www.pimidlantic.com
SUMMARY:Getting Started with PI
DESCRIPTION:Welcome to the world of Talent Optimization! \nPI Midlantic’s Getting Started with PI webinar is designed for new users of the Predictive Index software and methodology. During this session attendees will receive a high-level overview of talent optimization\, the Predictive Index assessments\, what those assessments measure\, and how to effectively navigate the Predictive Index software. The session also provides a brief overview of practical applications within the workplace\, showcasing tools\, reports\, and where to find them in the software. \nPlease note that this webinar is a primer and is designed to get you started with PI\, as the name implies. It is not a substitute for Predictive Index training and workshops. After attending this session\, you’ll want to reach out to your PI Consultant or PI Account Administrator for next steps on your journey into PI. \nAfter registering\, you will receive a confirmation email containing information about joining the meeting.
URL:https://www.pimidlantic.com/event/getting-started-with-pi-16/
LOCATION:Virtual Session
CATEGORIES:Webinars
ATTACH;FMTTYPE=image/jpeg:https://www.pimidlantic.com/wp-content/uploads/2020/06/tech.jpg
ORGANIZER;CN="PI Midlantic":MAILTO:dotranto@pimidlantic.com
END:VEVENT
BEGIN:VEVENT
DTSTART;TZID=America/New_York:20251218T140000
DTEND;TZID=America/New_York:20251218T150000
DTSTAMP:20260423T154458
CREATED:20251021T132353Z
LAST-MODIFIED:20251021T132353Z
UID:7214-1766066400-1766070000@www.pimidlantic.com
SUMMARY:The Business Advantage of PI Cognitive
DESCRIPTION:Join us for an engaging session exploring how the Predictive Index (PI) Cognitive Assessment can give your organization a measurable edge in hiring and performance. You’ll learn how understanding cognitive ability helps identify candidates who can learn quickly\, adapt to complexity\, and excel in fast-changing environments. Discover how to use PI Cognitive responsibly and effectively to make smarter\, more confident talent decisions that drive business results. \nLearning Objectives: \n\nWhat is general cognitive ability (g)?\nWhat is the PI Cognitive Assessment and how does it work?\nUsing cognitive data with job targets\nEvaluating the whole person
URL:https://www.pimidlantic.com/event/the-business-advantage-of-pi-cognitive/
LOCATION:Virtual Session
CATEGORIES:Webinars
ATTACH;FMTTYPE=image/webp:https://www.pimidlantic.com/wp-content/uploads/2025/10/Behav_Cog_Targets-768x525.png.webp
ORGANIZER;CN="PI Midlantic":MAILTO:dotranto@pimidlantic.com
END:VEVENT
END:VCALENDAR