BEGIN:VCALENDAR
VERSION:2.0
PRODID:-//PI Midlantic - ECPv6.15.18//NONSGML v1.0//EN
CALSCALE:GREGORIAN
METHOD:PUBLISH
X-WR-CALNAME:PI Midlantic
X-ORIGINAL-URL:https://www.pimidlantic.com
X-WR-CALDESC:Events for PI Midlantic
REFRESH-INTERVAL;VALUE=DURATION:PT1H
X-Robots-Tag:noindex
X-PUBLISHED-TTL:PT1H
BEGIN:VTIMEZONE
TZID:America/New_York
BEGIN:DAYLIGHT
TZOFFSETFROM:-0500
TZOFFSETTO:-0400
TZNAME:EDT
DTSTART:20240310T070000
END:DAYLIGHT
BEGIN:STANDARD
TZOFFSETFROM:-0400
TZOFFSETTO:-0500
TZNAME:EST
DTSTART:20241103T060000
END:STANDARD
BEGIN:DAYLIGHT
TZOFFSETFROM:-0500
TZOFFSETTO:-0400
TZNAME:EDT
DTSTART:20250309T070000
END:DAYLIGHT
BEGIN:STANDARD
TZOFFSETFROM:-0400
TZOFFSETTO:-0500
TZNAME:EST
DTSTART:20251102T060000
END:STANDARD
BEGIN:DAYLIGHT
TZOFFSETFROM:-0500
TZOFFSETTO:-0400
TZNAME:EDT
DTSTART:20260308T070000
END:DAYLIGHT
BEGIN:STANDARD
TZOFFSETFROM:-0400
TZOFFSETTO:-0500
TZNAME:EST
DTSTART:20261101T060000
END:STANDARD
END:VTIMEZONE
BEGIN:VEVENT
DTSTART;TZID=America/New_York:20251113T130000
DTEND;TZID=America/New_York:20251113T140000
DTSTAMP:20260423T171956
CREATED:20250502T172458Z
LAST-MODIFIED:20250502T172458Z
UID:6793-1763038800-1763042400@www.pimidlantic.com
SUMMARY:Getting Started with PI
DESCRIPTION:Welcome to the world of Talent Optimization! \nPI Midlantic’s Getting Started with PI webinar is designed for new users of the Predictive Index software and methodology. During this session attendees will receive a high-level overview of talent optimization\, the Predictive Index assessments\, what those assessments measure\, and how to effectively navigate the Predictive Index software. The session also provides a brief overview of practical applications within the workplace\, showcasing tools\, reports\, and where to find them in the software. \nPlease note that this webinar is a primer and is designed to get you started with PI\, as the name implies. It is not a substitute for Predictive Index training and workshops. After attending this session\, you’ll want to reach out to your PI Consultant or PI Account Administrator for next steps on your journey into PI. \nAfter registering\, you will receive a confirmation email containing information about joining the meeting.
URL:https://www.pimidlantic.com/event/getting-started-with-pi-10/
LOCATION:Virtual Session
CATEGORIES:Webinars
ATTACH;FMTTYPE=image/jpeg:https://www.pimidlantic.com/wp-content/uploads/2020/06/tech.jpg
ORGANIZER;CN="PI Midlantic":MAILTO:dotranto@pimidlantic.com
END:VEVENT
BEGIN:VEVENT
DTSTART;TZID=America/New_York:20251120T140000
DTEND;TZID=America/New_York:20251120T150000
DTSTAMP:20260423T171956
CREATED:20251001T160116Z
LAST-MODIFIED:20251001T160116Z
UID:7192-1763647200-1763650800@www.pimidlantic.com
SUMMARY:Feedback That Resonates: How to Structure Your Feedback Conversations and Leverage PI for Greater Impact
DESCRIPTION:In this interactive 1-hour session\, participants will learn how to deliver feedback with greater clarity\, confidence\, and impact. Talent Optimization Advisor\, Beth Murphy will share a proven framework for effective feedback conversations that can be used when delivering positive and improvement feedback. The session will also guide participants on how to integrate PI’s behavioral insights to tailor their feedback to align with an individual’s drives and needs\, enhancing receptivity and outcomes. \nLearning Objectives: \n\nLearn a proven approach and framework for delivering effective feedback.\nUnderstand how to leverage PI data and insight to tailor feedback.\nEnhance your confidence and ability to provide feedback that produces greater clarity\, understanding\, and motivation for action and growth.
URL:https://www.pimidlantic.com/event/feedback-that-resonates/
LOCATION:Virtual Session
CATEGORIES:Webinars
ATTACH;FMTTYPE=image/jpeg:https://www.pimidlantic.com/wp-content/uploads/2023/11/christina-wocintechchat-com-LQ1t-8Ms5PY-unsplash-scaled.jpg
ORGANIZER;CN="PI Midlantic":MAILTO:dotranto@pimidlantic.com
END:VEVENT
END:VCALENDAR