BEGIN:VCALENDAR
VERSION:2.0
PRODID:-//PI Midlantic - ECPv6.15.18//NONSGML v1.0//EN
CALSCALE:GREGORIAN
METHOD:PUBLISH
X-ORIGINAL-URL:https://www.pimidlantic.com
X-WR-CALDESC:Events for PI Midlantic
REFRESH-INTERVAL;VALUE=DURATION:PT1H
X-Robots-Tag:noindex
X-PUBLISHED-TTL:PT1H
BEGIN:VTIMEZONE
TZID:America/New_York
BEGIN:DAYLIGHT
TZOFFSETFROM:-0500
TZOFFSETTO:-0400
TZNAME:EDT
DTSTART:20240310T070000
END:DAYLIGHT
BEGIN:STANDARD
TZOFFSETFROM:-0400
TZOFFSETTO:-0500
TZNAME:EST
DTSTART:20241103T060000
END:STANDARD
BEGIN:DAYLIGHT
TZOFFSETFROM:-0500
TZOFFSETTO:-0400
TZNAME:EDT
DTSTART:20250309T070000
END:DAYLIGHT
BEGIN:STANDARD
TZOFFSETFROM:-0400
TZOFFSETTO:-0500
TZNAME:EST
DTSTART:20251102T060000
END:STANDARD
BEGIN:DAYLIGHT
TZOFFSETFROM:-0500
TZOFFSETTO:-0400
TZNAME:EDT
DTSTART:20260308T070000
END:DAYLIGHT
BEGIN:STANDARD
TZOFFSETFROM:-0400
TZOFFSETTO:-0500
TZNAME:EST
DTSTART:20261101T060000
END:STANDARD
END:VTIMEZONE
BEGIN:VEVENT
DTSTART;TZID=America/New_York:20251016T140000
DTEND;TZID=America/New_York:20251016T150000
DTSTAMP:20260423T184332
CREATED:20250924T142210Z
LAST-MODIFIED:20250924T142431Z
UID:7181-1760623200-1760626800@www.pimidlantic.com
SUMMARY:Eliminating Bias and Driving Compliance with The Predictive Index
DESCRIPTION:From hiring to performance reviews\, people decisions can expose organizations to bias and compliance risk if not managed consistently. The Predictive Index provides a full suite of science-backed tools that help organizations make smarter\, fairer\, and legally defensible talent decisions while empowering managers to unlock the full potential of their teams. \nIn this webinar\, Predictive Index’s very own Chief People Officer\, Jackie Dube\, will explore how PI enables organizations to: \n\nReduce Bias Across the Talent Lifecycle: Use validated behavioral and cognitive assessments\, structured interview guides\, and consistent performance templates to ensure fair\, objective decisions.\nStay Compliant with Confidence: Build processes that are auditable\, legally defensible\, and aligned with employment law best practices.\nDrive Better Business Outcomes: Link talent decisions directly to strategy\, ensuring you have the right people in the right roles\, working together in the right way.\n\nKey Takeaway: \nWith The Predictive Index\, organizations can confidently balance compliance and fairness with growth and performance\, which creates workplaces that are both legally protected and people-focused.
URL:https://www.pimidlantic.com/event/eliminating-bias-and-driving-compliance-with-the-predictive-index/
LOCATION:Virtual Session
CATEGORIES:Webinars
ATTACH;FMTTYPE=image/jpeg:https://www.pimidlantic.com/wp-content/uploads/2025/05/img-0268-7833.jpg
ORGANIZER;CN="PI Midlantic":MAILTO:dotranto@pimidlantic.com
END:VEVENT
BEGIN:VEVENT
DTSTART;TZID=America/New_York:20251020T140000
DTEND;TZID=America/New_York:20251020T140000
DTSTAMP:20260423T184332
CREATED:20250505T144606Z
LAST-MODIFIED:20250505T144606Z
UID:6797-1760968800-1760968800@www.pimidlantic.com
SUMMARY:Getting Started with PI
DESCRIPTION:Welcome to the world of Talent Optimization! \nPI Midlantic’s Getting Started with PI webinar is designed for new users of the Predictive Index software and methodology. During this session attendees will receive a high-level overview of talent optimization\, the Predictive Index assessments\, what those assessments measure\, and how to effectively navigate the Predictive Index software. The session also provides a brief overview of practical applications within the workplace\, showcasing tools\, reports\, and where to find them in the software. \nPlease note that this webinar is a primer and is designed to get you started with PI\, as the name implies. It is not a substitute for Predictive Index training and workshops. After attending this session\, you’ll want to reach out to your PI Consultant or PI Account Administrator for next steps on your journey into PI. \nAfter registering\, you will receive a confirmation email containing information about joining the meeting.
URL:https://www.pimidlantic.com/event/getting-started-with-pi-15/
LOCATION:Virtual Session
CATEGORIES:Webinars
ATTACH;FMTTYPE=image/jpeg:https://www.pimidlantic.com/wp-content/uploads/2020/06/tech.jpg
ORGANIZER;CN="PI Midlantic":MAILTO:dotranto@pimidlantic.com
END:VEVENT
END:VCALENDAR