BEGIN:VCALENDAR
VERSION:2.0
PRODID:-//PI Midlantic - ECPv6.15.18//NONSGML v1.0//EN
CALSCALE:GREGORIAN
METHOD:PUBLISH
X-ORIGINAL-URL:https://www.pimidlantic.com
X-WR-CALDESC:Events for PI Midlantic
REFRESH-INTERVAL;VALUE=DURATION:PT1H
X-Robots-Tag:noindex
X-PUBLISHED-TTL:PT1H
BEGIN:VTIMEZONE
TZID:America/New_York
BEGIN:DAYLIGHT
TZOFFSETFROM:-0500
TZOFFSETTO:-0400
TZNAME:EDT
DTSTART:20240310T070000
END:DAYLIGHT
BEGIN:STANDARD
TZOFFSETFROM:-0400
TZOFFSETTO:-0500
TZNAME:EST
DTSTART:20241103T060000
END:STANDARD
BEGIN:DAYLIGHT
TZOFFSETFROM:-0500
TZOFFSETTO:-0400
TZNAME:EDT
DTSTART:20250309T070000
END:DAYLIGHT
BEGIN:STANDARD
TZOFFSETFROM:-0400
TZOFFSETTO:-0500
TZNAME:EST
DTSTART:20251102T060000
END:STANDARD
BEGIN:DAYLIGHT
TZOFFSETFROM:-0500
TZOFFSETTO:-0400
TZNAME:EDT
DTSTART:20260308T070000
END:DAYLIGHT
BEGIN:STANDARD
TZOFFSETFROM:-0400
TZOFFSETTO:-0500
TZNAME:EST
DTSTART:20261101T060000
END:STANDARD
END:VTIMEZONE
BEGIN:VEVENT
DTSTART;TZID=America/New_York:20250911T140000
DTEND;TZID=America/New_York:20250911T150000
DTSTAMP:20260424T173729
CREATED:20250509T144031Z
LAST-MODIFIED:20250509T144417Z
UID:6816-1757599200-1757602800@www.pimidlantic.com
SUMMARY:Optimizing Workplace Culture with the Predictive Index: From Pre-Hire to Post-Hire Success
DESCRIPTION:In a webinar led by Talent Optimization Advisor\, Shelley Smith\, we will explore the many powerful uses of the Predictive Index (PI) tool to optimize workplace culture\, from pre-hire assessments to post-hire engagement and development.  \nLearn how to harness the PI to improve every stage of the employee lifecycle\, ensuring better selection\, smoother onboarding\, higher engagement\, and greater overall satisfaction. This session will provide practical insights and actionable strategies to implement PI effectively\, ultimately fostering a more cohesive\, productive\, and engaged team. \nKey Learning Objectives: \n\nStreamline Recruitment and Selection: Understand how the Predictive Index can enhance your hiring process by identifying the right-fit candidates for your workplace culture\, improving both employee retention and job satisfaction.\nOptimize Onboarding and Engagement: Learn how to use PI to tailor onboarding processes\, boost early employee engagement\, and reduce turnover by aligning new hires’ strengths and motivations with your organization’s culture.\nDrive Long-term Employee Satisfaction: Discover how PI can be used post-hire to continuously engage employees\, optimize team dynamics\, and strengthen workplace culture through ongoing development\, feedback\, and role alignment.
URL:https://www.pimidlantic.com/event/optimizing-workplace-culture-with-the-predictive-index-from-pre-hire-to-post-hire-success/
LOCATION:Virtual Session
CATEGORIES:Webinars
ATTACH;FMTTYPE=image/jpeg:https://www.pimidlantic.com/wp-content/uploads/2025/05/img-0268-7833.jpg
ORGANIZER;CN="PI Midlantic":MAILTO:dotranto@pimidlantic.com
END:VEVENT
END:VCALENDAR